
BEGIN:VCALENDAR
VERSION:2.0
PRODID:-//Sumac Centre - ECPv6.0.12//NONSGML v1.0//EN
CALSCALE:GREGORIAN
METHOD:PUBLISH
X-WR-CALNAME:Sumac Centre
X-ORIGINAL-URL:https://sumac.org.uk
X-WR-CALDESC:Events for Sumac Centre
REFRESH-INTERVAL;VALUE=DURATION:PT1H
X-Robots-Tag:noindex
X-PUBLISHED-TTL:PT1H
BEGIN:VTIMEZONE
TZID:Europe/London
BEGIN:DAYLIGHT
TZOFFSETFROM:+0000
TZOFFSETTO:+0100
TZNAME:BST
DTSTART:20260329T010000
END:DAYLIGHT
BEGIN:STANDARD
TZOFFSETFROM:+0100
TZOFFSETTO:+0000
TZNAME:GMT
DTSTART:20261025T010000
END:STANDARD
BEGIN:DAYLIGHT
TZOFFSETFROM:+0000
TZOFFSETTO:+0100
TZNAME:BST
DTSTART:20270328T010000
END:DAYLIGHT
BEGIN:STANDARD
TZOFFSETFROM:+0100
TZOFFSETTO:+0000
TZNAME:GMT
DTSTART:20271031T010000
END:STANDARD
END:VTIMEZONE
BEGIN:VEVENT
DTSTART;TZID=Europe/London:20260615T190000
DTEND;TZID=Europe/London:20260615T220000
DTSTAMP:20260421T123945
CREATED:20251031T131926Z
LAST-MODIFIED:20260330T150744Z
UID:10012355-1781550000-1781560800@sumac.org.uk
SUMMARY:Nottingham Animal Coalition
DESCRIPTION:Nottingham Animal Coalition is a new animal advocacy group aiming to bring together the various animal rights groups in Nottingham. \nThe next NAC meeting is on Monday 20th April . 7pm – 9PM at the Sumac Centre \nAn opportunity to get active for animals\, discover existing campaigns\, or start your own! \nIf you have an unfulfilled interest in animal rights you are welcome to attend the meeting\, even if not (yet) associated with a specific group. \n\nThis event may feature representatives from:\n\n\n\nAnimal Horizon\nAnimal Rising\nAnonymous For The Voiceless\nBrinsley Animal Rescue\nFood for a Future\nGreyhound Action In Nottingham (G.A.I.N)\nNottingham Animal Rights\nPlant Based Nottingham\nRescue Not Retail\nVegan Sanctuary Squad\nVeggies Vegan Catering Campaign\nWe The Free\n\n\n\n  \nEach rep. will give a short speech about their group and the type of activism they do\, with time for some questions. After this\, there will be an open discussion about different activism tactics and what types of activism people feel is missing. Finally\, there will be an opportunity for activists from different groups to socialise with each other.\n\nRSVP at the Facebook event so we can get an idea of numbers. 🙇 \nLooking forward to seeing you all there. 🫂 \n  \nSee also events on Veggies Animal Rights Calendar. \n 
URL:https://sumac.org.uk/event/nottingham-animal-rights-coalition/2026-06-15/
LOCATION:Sumac Centre\, 245 Gladstone Street\, Nottingham\, United Kingdom
CATEGORIES:Campaigns,Public Event
ATTACH;FMTTYPE=image/jpeg:https://sumac.org.uk/wp-content/uploads/2025/10/Nottingham-Animal-Coalition.-logo-.jpg
ORGANIZER;CN="Nottingham%20Animal%20Rights%20Coalition":MAILTO:nottsanimalcoalition@proton.me
GEO:52.9714703;-1.1633688
X-APPLE-STRUCTURED-LOCATION;VALUE=URI;X-ADDRESS=Sumac Centre 245 Gladstone Street Nottingham United Kingdom;X-APPLE-RADIUS=500;X-TITLE=245 Gladstone Street:geo:-1.1633688,52.9714703
END:VEVENT
BEGIN:VEVENT
DTSTART;TZID=Europe/London:20260817T190000
DTEND;TZID=Europe/London:20260817T220000
DTSTAMP:20260421T123945
CREATED:20251031T131926Z
LAST-MODIFIED:20260330T150744Z
UID:10012356-1786993200-1787004000@sumac.org.uk
SUMMARY:Nottingham Animal Coalition
DESCRIPTION:Nottingham Animal Coalition is a new animal advocacy group aiming to bring together the various animal rights groups in Nottingham. \nThe next NAC meeting is on Monday 20th April . 7pm – 9PM at the Sumac Centre \nAn opportunity to get active for animals\, discover existing campaigns\, or start your own! \nIf you have an unfulfilled interest in animal rights you are welcome to attend the meeting\, even if not (yet) associated with a specific group. \n\nThis event may feature representatives from:\n\n\n\nAnimal Horizon\nAnimal Rising\nAnonymous For The Voiceless\nBrinsley Animal Rescue\nFood for a Future\nGreyhound Action In Nottingham (G.A.I.N)\nNottingham Animal Rights\nPlant Based Nottingham\nRescue Not Retail\nVegan Sanctuary Squad\nVeggies Vegan Catering Campaign\nWe The Free\n\n\n\n  \nEach rep. will give a short speech about their group and the type of activism they do\, with time for some questions. After this\, there will be an open discussion about different activism tactics and what types of activism people feel is missing. Finally\, there will be an opportunity for activists from different groups to socialise with each other.\n\nRSVP at the Facebook event so we can get an idea of numbers. 🙇 \nLooking forward to seeing you all there. 🫂 \n  \nSee also events on Veggies Animal Rights Calendar. \n 
URL:https://sumac.org.uk/event/nottingham-animal-rights-coalition/2026-08-17/
LOCATION:Sumac Centre\, 245 Gladstone Street\, Nottingham\, United Kingdom
CATEGORIES:Campaigns,Public Event
ATTACH;FMTTYPE=image/jpeg:https://sumac.org.uk/wp-content/uploads/2025/10/Nottingham-Animal-Coalition.-logo-.jpg
ORGANIZER;CN="Nottingham%20Animal%20Rights%20Coalition":MAILTO:nottsanimalcoalition@proton.me
GEO:52.9714703;-1.1633688
X-APPLE-STRUCTURED-LOCATION;VALUE=URI;X-ADDRESS=Sumac Centre 245 Gladstone Street Nottingham United Kingdom;X-APPLE-RADIUS=500;X-TITLE=245 Gladstone Street:geo:-1.1633688,52.9714703
END:VEVENT
BEGIN:VEVENT
DTSTART;TZID=Europe/London:20261019T190000
DTEND;TZID=Europe/London:20261019T220000
DTSTAMP:20260421T123945
CREATED:20251031T131926Z
LAST-MODIFIED:20260330T150744Z
UID:10012357-1792436400-1792447200@sumac.org.uk
SUMMARY:Nottingham Animal Coalition
DESCRIPTION:Nottingham Animal Coalition is a new animal advocacy group aiming to bring together the various animal rights groups in Nottingham. \nThe next NAC meeting is on Monday 20th April . 7pm – 9PM at the Sumac Centre \nAn opportunity to get active for animals\, discover existing campaigns\, or start your own! \nIf you have an unfulfilled interest in animal rights you are welcome to attend the meeting\, even if not (yet) associated with a specific group. \n\nThis event may feature representatives from:\n\n\n\nAnimal Horizon\nAnimal Rising\nAnonymous For The Voiceless\nBrinsley Animal Rescue\nFood for a Future\nGreyhound Action In Nottingham (G.A.I.N)\nNottingham Animal Rights\nPlant Based Nottingham\nRescue Not Retail\nVegan Sanctuary Squad\nVeggies Vegan Catering Campaign\nWe The Free\n\n\n\n  \nEach rep. will give a short speech about their group and the type of activism they do\, with time for some questions. After this\, there will be an open discussion about different activism tactics and what types of activism people feel is missing. Finally\, there will be an opportunity for activists from different groups to socialise with each other.\n\nRSVP at the Facebook event so we can get an idea of numbers. 🙇 \nLooking forward to seeing you all there. 🫂 \n  \nSee also events on Veggies Animal Rights Calendar. \n 
URL:https://sumac.org.uk/event/nottingham-animal-rights-coalition/2026-10-19/
LOCATION:Sumac Centre\, 245 Gladstone Street\, Nottingham\, United Kingdom
CATEGORIES:Campaigns,Public Event
ATTACH;FMTTYPE=image/jpeg:https://sumac.org.uk/wp-content/uploads/2025/10/Nottingham-Animal-Coalition.-logo-.jpg
ORGANIZER;CN="Nottingham%20Animal%20Rights%20Coalition":MAILTO:nottsanimalcoalition@proton.me
GEO:52.9714703;-1.1633688
X-APPLE-STRUCTURED-LOCATION;VALUE=URI;X-ADDRESS=Sumac Centre 245 Gladstone Street Nottingham United Kingdom;X-APPLE-RADIUS=500;X-TITLE=245 Gladstone Street:geo:-1.1633688,52.9714703
END:VEVENT
BEGIN:VEVENT
DTSTART;TZID=Europe/London:20261221T190000
DTEND;TZID=Europe/London:20261221T220000
DTSTAMP:20260421T123945
CREATED:20251031T131926Z
LAST-MODIFIED:20260330T150744Z
UID:10012358-1797879600-1797890400@sumac.org.uk
SUMMARY:Nottingham Animal Coalition
DESCRIPTION:Nottingham Animal Coalition is a new animal advocacy group aiming to bring together the various animal rights groups in Nottingham. \nThe next NAC meeting is on Monday 20th April . 7pm – 9PM at the Sumac Centre \nAn opportunity to get active for animals\, discover existing campaigns\, or start your own! \nIf you have an unfulfilled interest in animal rights you are welcome to attend the meeting\, even if not (yet) associated with a specific group. \n\nThis event may feature representatives from:\n\n\n\nAnimal Horizon\nAnimal Rising\nAnonymous For The Voiceless\nBrinsley Animal Rescue\nFood for a Future\nGreyhound Action In Nottingham (G.A.I.N)\nNottingham Animal Rights\nPlant Based Nottingham\nRescue Not Retail\nVegan Sanctuary Squad\nVeggies Vegan Catering Campaign\nWe The Free\n\n\n\n  \nEach rep. will give a short speech about their group and the type of activism they do\, with time for some questions. After this\, there will be an open discussion about different activism tactics and what types of activism people feel is missing. Finally\, there will be an opportunity for activists from different groups to socialise with each other.\n\nRSVP at the Facebook event so we can get an idea of numbers. 🙇 \nLooking forward to seeing you all there. 🫂 \n  \nSee also events on Veggies Animal Rights Calendar. \n 
URL:https://sumac.org.uk/event/nottingham-animal-rights-coalition/2026-12-21/
LOCATION:Sumac Centre\, 245 Gladstone Street\, Nottingham\, United Kingdom
CATEGORIES:Campaigns,Public Event
ATTACH;FMTTYPE=image/jpeg:https://sumac.org.uk/wp-content/uploads/2025/10/Nottingham-Animal-Coalition.-logo-.jpg
ORGANIZER;CN="Nottingham%20Animal%20Rights%20Coalition":MAILTO:nottsanimalcoalition@proton.me
GEO:52.9714703;-1.1633688
X-APPLE-STRUCTURED-LOCATION;VALUE=URI;X-ADDRESS=Sumac Centre 245 Gladstone Street Nottingham United Kingdom;X-APPLE-RADIUS=500;X-TITLE=245 Gladstone Street:geo:-1.1633688,52.9714703
END:VEVENT
BEGIN:VEVENT
DTSTART;TZID=Europe/London:20270215T190000
DTEND;TZID=Europe/London:20270215T220000
DTSTAMP:20260421T123945
CREATED:20251031T131926Z
LAST-MODIFIED:20260330T150744Z
UID:10012359-1802718000-1802728800@sumac.org.uk
SUMMARY:Nottingham Animal Coalition
DESCRIPTION:Nottingham Animal Coalition is a new animal advocacy group aiming to bring together the various animal rights groups in Nottingham. \nThe next NAC meeting is on Monday 20th April . 7pm – 9PM at the Sumac Centre \nAn opportunity to get active for animals\, discover existing campaigns\, or start your own! \nIf you have an unfulfilled interest in animal rights you are welcome to attend the meeting\, even if not (yet) associated with a specific group. \n\nThis event may feature representatives from:\n\n\n\nAnimal Horizon\nAnimal Rising\nAnonymous For The Voiceless\nBrinsley Animal Rescue\nFood for a Future\nGreyhound Action In Nottingham (G.A.I.N)\nNottingham Animal Rights\nPlant Based Nottingham\nRescue Not Retail\nVegan Sanctuary Squad\nVeggies Vegan Catering Campaign\nWe The Free\n\n\n\n  \nEach rep. will give a short speech about their group and the type of activism they do\, with time for some questions. After this\, there will be an open discussion about different activism tactics and what types of activism people feel is missing. Finally\, there will be an opportunity for activists from different groups to socialise with each other.\n\nRSVP at the Facebook event so we can get an idea of numbers. 🙇 \nLooking forward to seeing you all there. 🫂 \n  \nSee also events on Veggies Animal Rights Calendar. \n 
URL:https://sumac.org.uk/event/nottingham-animal-rights-coalition/2027-02-15/
LOCATION:Sumac Centre\, 245 Gladstone Street\, Nottingham\, United Kingdom
CATEGORIES:Campaigns,Public Event
ATTACH;FMTTYPE=image/jpeg:https://sumac.org.uk/wp-content/uploads/2025/10/Nottingham-Animal-Coalition.-logo-.jpg
ORGANIZER;CN="Nottingham%20Animal%20Rights%20Coalition":MAILTO:nottsanimalcoalition@proton.me
GEO:52.9714703;-1.1633688
X-APPLE-STRUCTURED-LOCATION;VALUE=URI;X-ADDRESS=Sumac Centre 245 Gladstone Street Nottingham United Kingdom;X-APPLE-RADIUS=500;X-TITLE=245 Gladstone Street:geo:-1.1633688,52.9714703
END:VEVENT
END:VCALENDAR