
BEGIN:VCALENDAR
VERSION:2.0
PRODID:-//Sumac Centre - ECPv6.0.12//NONSGML v1.0//EN
CALSCALE:GREGORIAN
METHOD:PUBLISH
X-WR-CALNAME:Sumac Centre
X-ORIGINAL-URL:https://sumac.org.uk
X-WR-CALDESC:Events for Sumac Centre
REFRESH-INTERVAL;VALUE=DURATION:PT1H
X-Robots-Tag:noindex
X-PUBLISHED-TTL:PT1H
BEGIN:VTIMEZONE
TZID:Europe/London
BEGIN:DAYLIGHT
TZOFFSETFROM:+0000
TZOFFSETTO:+0100
TZNAME:BST
DTSTART:20260329T010000
END:DAYLIGHT
BEGIN:STANDARD
TZOFFSETFROM:+0100
TZOFFSETTO:+0000
TZNAME:GMT
DTSTART:20261025T010000
END:STANDARD
END:VTIMEZONE
BEGIN:VEVENT
DTSTART;TZID=Europe/London:20260424T190000
DTEND;TZID=Europe/London:20260424T220000
DTSTAMP:20260424T010323
CREATED:20240814T152518Z
LAST-MODIFIED:20260221T132424Z
UID:10011511-1777057200-1777068000@sumac.org.uk
SUMMARY:Games Night at Forest Fields Social Club
DESCRIPTION:Game Night at Sumac on 2nd and 4th Friday of each month\, with bar\, 7pm -10pm. \n  \nDuring Forest Fields Social Club events under 18s must be accompanied by an adult who remains responsible for them whilst on Sumac premises.
URL:https://sumac.org.uk/event/games-night-at-forest-fields-social-club-3-2/2026-04-24/
LOCATION:Sumac Centre\, 245 Gladstone Street\, Nottingham\, United Kingdom
CATEGORIES:Public Event,Sumac Public Events
ATTACH;FMTTYPE=image/jpeg:https://sumac.org.uk/wp-content/uploads/2024/01/Screenshot_20240112-192648__01.jpg
ORGANIZER;CN="Skills%20Exchange%20Timebank":MAILTO:skillsexchangeng@gmail.com
GEO:52.9714703;-1.1633688
X-APPLE-STRUCTURED-LOCATION;VALUE=URI;X-ADDRESS=Sumac Centre 245 Gladstone Street Nottingham United Kingdom;X-APPLE-RADIUS=500;X-TITLE=245 Gladstone Street:geo:-1.1633688,52.9714703
END:VEVENT
END:VCALENDAR